Workbook

Sheet Žūrijas vērtējums
G1: 1. pielikums
G2: “Challenge Labs: Meikatons 2024”
G3: Žūrijas komisijas vērtēšanas nolikumam
A5: Challenge Labs | Meikatons 2024 žūrijas komisijas vērtēšanas lapa
A7: Ekspertīze
A8: Vārds Uzvārds
A9: Datums | B9: 10.11.2024.
C10: Scale 1-5
C11: Jautājums 1 | D11: Jautājums 2 | E11: Jautājums 3 | F11: Jautājums 4 | G11: Jautājums 5
A12: Komandas kods | B12: Komandas nosaukums | C12: PROBLĒMA: Risinājums adresē patiesu problēmu/izaicinājumu patērētājam vai lauksaimniecības-pārtikas sektoram (pēc ekspertu labākās zināšanas) | D12: UNIKALITĀTE - idejai ir potenciāls tikt uzskatītai par aizsargājamu intelektuālo īpašumu (produkts/pakalpojums vai rūpnieciskais dizains) | E12: JAUNS TIRGŪ (šobrīd nekur netiek izmantots) - ideja šobrīd nav pieejama Latvija un/vai Baltijas valstīs un/vai Eiropas un/vai globālajā tirgū | F12: BIZNESA MODELIS - ir iespēja sasniegt pareizo klientu grupu un gūt komerciālus panākumus | G12: VIDES IETEKME - ideja var pierādīt vismaz neitrālas vides izmaksas | H12: VĒRTĒJUMU KOPSAVILKUMS
A13: 1 | B13: ='Žūrijas kopsavilkums'!B11 -> 0 | H13: =AVERAGEA(C13:G13) -> #DIV/0!
A14: 2 | B14: ='Žūrijas kopsavilkums'!B12 -> 0 | H14: =AVERAGEA(C14:G14) -> #DIV/0!
A15: 3 | B15: ='Žūrijas kopsavilkums'!B13 -> 0 | H15: =AVERAGEA(C15:G15) -> #DIV/0!
A16: 4 | B16: ='Žūrijas kopsavilkums'!B14 -> 0 | H16: =AVERAGEA(C16:G16) -> #DIV/0!
A17: 5 | B17: ='Žūrijas kopsavilkums'!B15 -> 0 | H17: =AVERAGEA(C17:G17) -> #DIV/0!
A18: 6 | B18: ='Žūrijas kopsavilkums'!B16 -> 0 | H18: =AVERAGEA(C18:G18) -> #DIV/0!
A19: 7 | B19: ='Žūrijas kopsavilkums'!B17 -> 0 | H19: =AVERAGEA(C19:G19) -> #DIV/0!
A20: 8 | B20: ='Žūrijas kopsavilkums'!B18 -> 0 | H20: =AVERAGEA(C20:G20) -> #DIV/0!
A21: 9 | B21: ='Žūrijas kopsavilkums'!B19 -> 0 | H21: =AVERAGEA(C21:G21) -> #DIV/0!
A22: 10 | B22: ='Žūrijas kopsavilkums'!B20 -> 0 | H22: =AVERAGEA(C22:G22) -> #DIV/0!
A23: 11 | B23: ='Žūrijas kopsavilkums'!B21 -> 0 | H23: =AVERAGEA(C23:G23) -> #DIV/0!
A24: 12 | B24: ='Žūrijas kopsavilkums'!B22 -> 0 | H24: =AVERAGEA(C24:G24) -> #DIV/0!
... A27: 15 | B27: ='Žūrijas kopsavilkums'!B25 -> 0 | H27: =AVERAGEA(C27:G27) -> #DIV/0!
A29: PROBLĒMA: Risinājums adresē patiesu problēmu/izaicinājumu patērētājam vai lauksaimniecības-pārtikas sektoram (pēc ekspertu labākās zināšanas)
A30: 1 = ideja adresē neesošu problēmu un/vai ļoti mazu cilvēku grupu/sektora daļu
A31: 3 = ideja adresē esošu problēmu, kas ietekmē vidēji lielu cilvēku grupu/sektora daļu
A32: 5 = ideja adresē esošu un ļoti nozīmīgu izaicinājumu, kas ietekmē ļoti lielu cilvēku grupu/sektora daļu
A34: UNIKALITĀTE - idejai ir potenciāls tikt uzskatītai par aizsargājamu intelektuālo īpašumu (patents par produktu/pakalpojumu vai rūpniecisku dizainu)
A35: 1 = ideja jau ir patentēta vai tai nav vērtības, lai tiktu aizsargāta ar intelektuālo īpašumu
A36: 3 = idejai ir zināms potenciāls tikt aizsargātai ar intelektuālo īpašumu
A37: 5 = idejai ir liels potenciāls intelektuālā īpašuma aizsardzības iegūšanai (piemēram, patents)
A39: JAUNUMS TIRGŪ/INOVĀCIJA (pašlaik nekur netiek izmantots) - ideja pašlaik nav pieejama Polijas un/vai Eiropas un/vai globālajā tirgū
A40: 1 = ideja jau ir pieejama Latvijas vai Baltijas valstu tirgū
A41: 3 = pēc manām zināšanām, tā nav pieejama Latvijas vai Baltijas valstu tirgū
A42: 5 = pēc manām zināšanām, tā nav pieejama globālajā tirgū (ASV, Eiropa, Āzija)
... A52: 5 = ideja noteikti var nodrošināt papildu vērtību vides aizsardzības jomā

Sheet Žūrijas kopsavilkums
A2: Challenge Labs | Meikatons 2024 žūrijas komisijas
A4: VĒRTĒJUMA KOPSAVILKUMS
A7: Datums | B7: 10.11.2024.
A10: Komandas kods | B10: Komandas nosaukums | C10: Vērtējums komisijas loceklis DINA POPLUGA | D10: Vērtējums komisijas loceklis OLITA UNTĀLA | E10: Vērtējums komisijas loceklis KASPARS ŽŪRIŅŠ | F10: Vērtējums komisijas loceklis GUNTARS OZOLIŅŠ | G10: Vērtējums komisijas loceklis ANTONS ADAMOVIČS | H10: Žūrijas kopējais vērtējums
A11: 1 | H11: =SUM(C11:G11) -> 0
A12: 2 | H12: =SUM(C12:G12) -> 0
A13: 3 | H13: =SUM(C13:G13) -> 0
A14: 4 | H14: =SUM(C14:G14) -> 0
A15: 5 | H15: =SUM(C15:G15) -> 0
A16: 6 | H16: =SUM(C16:G16) -> 0
A17: 7 | H17: =SUM(C17:G17) -> 0
A18: 8 | H18: =SUM(C18:G18) -> 0
A19: 9 | H19: =SUM(C19:G19) -> 0
A20: 10 | H20: =SUM(C20:G20) -> 0
A21: 11 | H21: =SUM(C21:G21) -> 0
A22: 12 | H22: =SUM(C22:G22) -> 0
... A25: 15 | H25: =SUM(C25:G25) -> 0
A28: APSTIPRINU
A30: Žūrijas komisijas locekļi:
C32: Dina Popluga, LBTU profesore un Ekonomikas un finanšu institūta direktore;
C35: Olita Untāla, Attīstības finanšu institūcija ALTUM Vidzemes reģiona vadītāja;
C38: Kaspars Žūriņš, SIA Latvijas Lauku konsultāciju un izglītības centrs valdes loceklis;
C41: Guntars Ozoliņš, SIA “Dojus Latvija” Lielo klientu vadītājs;
C44: …
